BEGIN:VCALENDAR
VERSION:2.0
PRODID:-//Department Of Education//393d9779-b4e8-484f-bfc8-b75f9e7f2b9c
BEGIN:VTIMEZONE
TZID:Australia/Sydney
TZURL:http://tzurl.org/zoneinfo-outlook/Australia/Sydney
X-LIC-LOCATION:Australia/Sydney
BEGIN:STANDARD
TZOFFSETFROM:+1100
TZOFFSETTO:+1000
TZNAME:AEST
DTSTART:19700405T030000
RRULE:FREQ=YEARLY;BYMONTH=4;BYDAY=1SU
END:STANDARD
BEGIN:DAYLIGHT
TZOFFSETFROM:+1000
TZOFFSETTO:+1100
TZNAME:AEDT
DTSTART:19701004T020000
RRULE:FREQ=YEARLY;BYMONTH=10;BYDAY=1SU
END:DAYLIGHT
END:VTIMEZONE
CALSCALE:GREGORIAN
X-WR-TIMEZONE:Australia/Sydney
BEGIN:VEVENT
DTSTART;VALUE=DATE:20190918
DTEND;VALUE=DATE:20190919
DTSTAMP:20190918T000000Z
UID:556586dd-8882-4171-8b43-8fbd6133bbcd
LOCATION:Front office 
SUMMARY;LANGUAGE=en-us:School banking
RRULE:FREQ=WEEKLY;INTERVAL=1;UNTIL=20200918;
SEQUENCE:0
DESCRIPTION:Please ensure that all banking deposit slips are filled out correctly and are placed into the school banking slot outside the front office. 
END:VEVENT
TRANSP:TRANSPARENT
END:VCALENDAR
