BEGIN:VCALENDAR
VERSION:2.0
PRODID:-//Department Of Education//813a0633-5f45-4f45-a66e-1bf0da9e90e2
BEGIN:VTIMEZONE
TZID:Australia/Sydney
TZURL:http://tzurl.org/zoneinfo-outlook/Australia/Sydney
X-LIC-LOCATION:Australia/Sydney
BEGIN:STANDARD
TZOFFSETFROM:+1100
TZOFFSETTO:+1000
TZNAME:AEST
DTSTART:19700405T030000
RRULE:FREQ=YEARLY;BYMONTH=4;BYDAY=1SU
END:STANDARD
BEGIN:DAYLIGHT
TZOFFSETFROM:+1000
TZOFFSETTO:+1100
TZNAME:AEDT
DTSTART:19701004T020000
RRULE:FREQ=YEARLY;BYMONTH=10;BYDAY=1SU
END:DAYLIGHT
END:VTIMEZONE
CALSCALE:GREGORIAN
X-WR-TIMEZONE:Australia/Sydney
BEGIN:VEVENT
DTSTART;VALUE=DATE:20191002
DTEND;VALUE=DATE:20191003
DTSTAMP:20191002T000000Z
UID:1c21fc08-aa71-44b2-ac35-2c2e7f9afe56
LOCATION:Front office 
SUMMARY;LANGUAGE=en-us:School banking
RRULE:FREQ=WEEKLY;INTERVAL=1;UNTIL=20201002;
SEQUENCE:0
DESCRIPTION:Please ensure that all banking deposit slips are filled out correctly and are placed into the school banking slot outside the front office. 
END:VEVENT
TRANSP:TRANSPARENT
END:VCALENDAR
