BEGIN:VCALENDAR
VERSION:2.0
PRODID:-//Department Of Education//a7d52f63-e777-4fa6-8b7e-fe49a59040b6
BEGIN:VTIMEZONE
TZID:Australia/Sydney
TZURL:http://tzurl.org/zoneinfo-outlook/Australia/Sydney
X-LIC-LOCATION:Australia/Sydney
BEGIN:STANDARD
TZOFFSETFROM:+1100
TZOFFSETTO:+1000
TZNAME:AEST
DTSTART:19700405T030000
RRULE:FREQ=YEARLY;BYMONTH=4;BYDAY=1SU
END:STANDARD
BEGIN:DAYLIGHT
TZOFFSETFROM:+1000
TZOFFSETTO:+1100
TZNAME:AEDT
DTSTART:19701004T020000
RRULE:FREQ=YEARLY;BYMONTH=10;BYDAY=1SU
END:DAYLIGHT
END:VTIMEZONE
CALSCALE:GREGORIAN
X-WR-TIMEZONE:Australia/Sydney
BEGIN:VEVENT
DTSTART;TZID=Australia/Sydney:20190927T083031
DTEND;TZID=Australia/Sydney:20190927T093000
DTSTAMP:20190927T000000Z
UID:cc67d8ad-e308-40aa-ac2b-4cbdbd25f573
LOCATION:Outisde the kindergarten classrooms
SUMMARY;LANGUAGE=en-us:Coffee & Chat
RRULE:FREQ=WEEKLY;INTERVAL=1;UNTIL=20200927;
SEQUENCE:0
DESCRIPTION:All parents and teachers welcome to have a coffee (or tea) and chat every Friday morning before school.
END:VEVENT
TRANSP:TRANSPARENT
END:VCALENDAR
